BEGIN:VCALENDAR
VERSION:2.0
PRODID:-//Friends of The GTM - ECPv6.15.18//NONSGML v1.0//EN
CALSCALE:GREGORIAN
METHOD:PUBLISH
X-WR-CALNAME:Friends of The GTM
X-ORIGINAL-URL:https://gtmnerr.org
X-WR-CALDESC:Events for Friends of The GTM
REFRESH-INTERVAL;VALUE=DURATION:PT1H
X-Robots-Tag:noindex
X-PUBLISHED-TTL:PT1H
BEGIN:VTIMEZONE
TZID:America/New_York
BEGIN:DAYLIGHT
TZOFFSETFROM:-0500
TZOFFSETTO:-0400
TZNAME:EDT
DTSTART:20230312T070000
END:DAYLIGHT
BEGIN:STANDARD
TZOFFSETFROM:-0400
TZOFFSETTO:-0500
TZNAME:EST
DTSTART:20231105T060000
END:STANDARD
BEGIN:DAYLIGHT
TZOFFSETFROM:-0500
TZOFFSETTO:-0400
TZNAME:EDT
DTSTART:20240310T070000
END:DAYLIGHT
BEGIN:STANDARD
TZOFFSETFROM:-0400
TZOFFSETTO:-0500
TZNAME:EST
DTSTART:20241103T060000
END:STANDARD
BEGIN:DAYLIGHT
TZOFFSETFROM:-0500
TZOFFSETTO:-0400
TZNAME:EDT
DTSTART:20250309T070000
END:DAYLIGHT
BEGIN:STANDARD
TZOFFSETFROM:-0400
TZOFFSETTO:-0500
TZNAME:EST
DTSTART:20251102T060000
END:STANDARD
END:VTIMEZONE
BEGIN:VEVENT
DTSTART;TZID=America/New_York:20240709T090000
DTEND;TZID=America/New_York:20240711T150000
DTSTAMP:20260420T183009
CREATED:20240603T115447Z
LAST-MODIFIED:20240603T115447Z
UID:13297-1720515600-1720710000@gtmnerr.org
SUMMARY:Lifelong Learners: Adult Coastal Camp
DESCRIPTION:From the coastal wetlands to the beaches\, this three-day camp for lifelong learners will take the classroom into the field throughout Flagler County.\nREGISTER HERE.\nLifelong learners will:\n\nexplore marshes\, estuaries\, rocky intertidal zone\, and dunes on foot and by kayak\,\nlearn about monitoring efforts researchers use to understand our coastal environment\, and\nshare stewardship opportunities that everyone can participate in.\n\nThis program is hosted by Friends of the GTM Reserve and led by Florida Sea Grant Extension.\nPlease contact Kaitlyn.Dietz@FloridaDEP.gov with any questions.
URL:https://gtmnerr.org/calendar/lifelong-learners-adult-coastal-camp/
LOCATION:FL
CATEGORIES:Dune System,Education,Environment,Estuary,Friends of the GTM Reserve,GTM Research Reserve
ATTACH;FMTTYPE=image/jpeg:https://gtmnerr.org/wp-content/uploads/2024/06/Lifelong-Learning.jpg
END:VEVENT
END:VCALENDAR