BEGIN:VCALENDAR
VERSION:2.0
PRODID:-//Friends of The GTM - ECPv6.15.18//NONSGML v1.0//EN
CALSCALE:GREGORIAN
METHOD:PUBLISH
X-WR-CALNAME:Friends of The GTM
X-ORIGINAL-URL:https://gtmnerr.org
X-WR-CALDESC:Events for Friends of The GTM
REFRESH-INTERVAL;VALUE=DURATION:PT1H
X-Robots-Tag:noindex
X-PUBLISHED-TTL:PT1H
BEGIN:VTIMEZONE
TZID:UTC
BEGIN:STANDARD
TZOFFSETFROM:+0000
TZOFFSETTO:+0000
TZNAME:UTC
DTSTART:20240101T000000
END:STANDARD
END:VTIMEZONE
BEGIN:VEVENT
DTSTART;TZID=UTC:20251024T190000
DTEND;TZID=UTC:20251024T213000
DTSTAMP:20260421T091604
CREATED:20250911T175254Z
LAST-MODIFIED:20250917T175744Z
UID:78725-1761332400-1761341400@gtmnerr.org
SUMMARY:ESTUSCARY: HAUNTED TRAIL NIGHT 1
DESCRIPTION:Get ready for a spine-chilling adventure at Guana Tolomato Matanzas National Estuarine Research Reserve’s (GTM Research Reserve) ESTUSCARY Haunted Trail filled with scares\, surprises and fun (recommended for older children\, teens and adults)! Dress in your favorite Halloween costume —scary\, silly or sweet! Take a stroll through decorated trunks and collect plenty of candy! Take a hayride and enjoy the scenery! \nClosed-toe shoes recommended. The event will take place at the South Beach Access Parking Lot\, 2200 S. Ponte Vedra Blvd. (A1A) in Ponte Vedra Beach. Parking is available at the lot. \nOnline registration is $15 and $20 cash at the entrance.  \nREGISTRATION FOR HAUNTED TRAIL NIGHT 1! \n 
URL:https://gtmnerr.org/calendar/estuscary-haunted-trail-night-1/
LOCATION:Guana South Beach Access Parking Lot\, 1798 Ponte Vedra Blvd\, Ponte Vedra Beach\, FL\, 32082\, United States
CATEGORIES:Estuary,Friend's Event,GTM Research Reserve
ATTACH;FMTTYPE=image/png:https://gtmnerr.org/wp-content/uploads/2025/09/DEP-CA-.png
END:VEVENT
END:VCALENDAR