BEGIN:VCALENDAR
VERSION:2.0
PRODID:-//Friends of The GTM - ECPv6.15.18//NONSGML v1.0//EN
CALSCALE:GREGORIAN
METHOD:PUBLISH
X-ORIGINAL-URL:https://gtmnerr.org
X-WR-CALDESC:Events for Friends of The GTM
REFRESH-INTERVAL;VALUE=DURATION:PT1H
X-Robots-Tag:noindex
X-PUBLISHED-TTL:PT1H
BEGIN:VTIMEZONE
TZID:UTC
BEGIN:STANDARD
TZOFFSETFROM:+0000
TZOFFSETTO:+0000
TZNAME:UTC
DTSTART:20240101T000000
END:STANDARD
END:VTIMEZONE
BEGIN:VEVENT
DTSTART;TZID=UTC:20251025T090000
DTEND;TZID=UTC:20251025T110000
DTSTAMP:20260421T091635
CREATED:20250425T131359Z
LAST-MODIFIED:20250425T131359Z
UID:78131-1761382800-1761390000@gtmnerr.org
SUMMARY:Monthly Beach Cleanup
DESCRIPTION:Meet at the Visitor Center for a brief orientation and instructions at 9 a.m. where gloves and trash bags will be provided. You will be directed to a specific beach for cleanup. Hat\, insect repellent\, water and sunscreen are recommended. No signup is required.
URL:https://gtmnerr.org/calendar/monthly-beach-cleanup-6/
LOCATION:GTM Research Reserve\, 505 Guana River Rd.\, Ponte Vedra Beach\, FL\, 32082\, United States
CATEGORIES:Community Engagement,Environment,Estuary,GTM Research Reserve,Volunteer
ATTACH;FMTTYPE=image/png:https://gtmnerr.org/wp-content/uploads/2021/11/Monthly-Beach-Cleanup-CA.png
END:VEVENT
BEGIN:VEVENT
DTSTART;TZID=UTC:20251025T190000
DTEND;TZID=UTC:20251025T213000
DTSTAMP:20260421T091635
CREATED:20250911T180319Z
LAST-MODIFIED:20250917T175645Z
UID:78712-1761418800-1761427800@gtmnerr.org
SUMMARY:ESTUSCARY: HAUNTED TRAIL NIGHT 2
DESCRIPTION:Get ready for a spine-chilling adventure at Guana Tolomato Matanzas National Estuarine Research Reserve’s (GTM Research Reserve) ESTUSCARY Haunted Trail filled with scares\, surprises and fun (recommended for older children\, teens and adults)! Dress in your favorite Halloween costume —scary\, silly or sweet! Take a stroll through decorated trunks and collect plenty of candy! Take a hayride and enjoy the scenery! \nClosed-toe shoes recommended. The event will take place at the South Beach Access Parking Lot\, 2200 S. Ponte Vedra Blvd. (A1A) in Ponte Vedra Beach. Parking is available at the lot. \nOnline registration is $15 and $20 cash at the entrance.  \nREGISTRATION FOR HAUNTED TRAIL NIGHT 2! \n 
URL:https://gtmnerr.org/calendar/estuscary-haunted-trail-night-2/
LOCATION:Guana South Beach Access Parking Lot\, 1798 Ponte Vedra Blvd\, Ponte Vedra Beach\, FL\, 32082\, United States
CATEGORIES:Estuary,Friend's Event,GTM Research Reserve
ATTACH;FMTTYPE=image/png:https://gtmnerr.org/wp-content/uploads/2025/09/DEP-CA-.png
END:VEVENT
END:VCALENDAR