BEGIN:VCALENDAR
VERSION:2.0
PRODID:-//Friends of The GTM - ECPv6.15.18//NONSGML v1.0//EN
CALSCALE:GREGORIAN
METHOD:PUBLISH
X-ORIGINAL-URL:https://gtmnerr.org
X-WR-CALDESC:Events for Friends of The GTM
REFRESH-INTERVAL;VALUE=DURATION:PT1H
X-Robots-Tag:noindex
X-PUBLISHED-TTL:PT1H
BEGIN:VTIMEZONE
TZID:America/New_York
BEGIN:DAYLIGHT
TZOFFSETFROM:-0500
TZOFFSETTO:-0400
TZNAME:EDT
DTSTART:20230312T070000
END:DAYLIGHT
BEGIN:STANDARD
TZOFFSETFROM:-0400
TZOFFSETTO:-0500
TZNAME:EST
DTSTART:20231105T060000
END:STANDARD
BEGIN:DAYLIGHT
TZOFFSETFROM:-0500
TZOFFSETTO:-0400
TZNAME:EDT
DTSTART:20240310T070000
END:DAYLIGHT
BEGIN:STANDARD
TZOFFSETFROM:-0400
TZOFFSETTO:-0500
TZNAME:EST
DTSTART:20241103T060000
END:STANDARD
BEGIN:DAYLIGHT
TZOFFSETFROM:-0500
TZOFFSETTO:-0400
TZNAME:EDT
DTSTART:20250309T070000
END:DAYLIGHT
BEGIN:STANDARD
TZOFFSETFROM:-0400
TZOFFSETTO:-0500
TZNAME:EST
DTSTART:20251102T060000
END:STANDARD
END:VTIMEZONE
BEGIN:VEVENT
DTSTART;TZID=America/New_York:20240420T180000
DTEND;TZID=America/New_York:20240420T220000
DTSTAMP:20260422T013306
CREATED:20240214T093136Z
LAST-MODIFIED:20240214T093136Z
UID:12995-1713636000-1713650400@gtmnerr.org
SUMMARY:Evening for the Estuary
DESCRIPTION:Join the Friends of GTM Reserve at the Guana Dam for its annual fundraiser\, Evening for the Estuary: Under the Light of the Moon. Action News Jax Anchor John Bachman will serve as master of ceremonies for the event. Enjoy entertainment by Sidewalk 65 and celebrate with cocktail creations from renowned celebrity bartender Jonathan Mateer.
URL:https://gtmnerr.org/calendar/evening-for-the-estuary/
LOCATION:Guana Dam\, 505 Guana River Road\, Ponte Vedra Beach\, FL\, 32082\, United States
CATEGORIES:Community Engagement,Environment,Estuary,Friend's Event,Friends of the GTM Reserve,Fundraiser,GTM Research Reserve
ATTACH;FMTTYPE=image/png:https://gtmnerr.org/wp-content/uploads/2024/02/Evening-for-the-Estuary-flyer_4-20-2024-1.png
ORGANIZER;CN="Friends of the GTM Reserve":MAILTO:GTM_Friends@gtmnerr.org
END:VEVENT
END:VCALENDAR