BEGIN:VCALENDAR
VERSION:2.0
PRODID:-//Friends of The GTM - ECPv6.15.18//NONSGML v1.0//EN
CALSCALE:GREGORIAN
METHOD:PUBLISH
X-WR-CALNAME:Friends of The GTM
X-ORIGINAL-URL:https://gtmnerr.org
X-WR-CALDESC:Events for Friends of The GTM
REFRESH-INTERVAL;VALUE=DURATION:PT1H
X-Robots-Tag:noindex
X-PUBLISHED-TTL:PT1H
BEGIN:VTIMEZONE
TZID:UTC
BEGIN:STANDARD
TZOFFSETFROM:+0000
TZOFFSETTO:+0000
TZNAME:UTC
DTSTART:20240101T000000
END:STANDARD
END:VTIMEZONE
BEGIN:VEVENT
DTSTART;TZID=UTC:20251001T100000
DTEND;TZID=UTC:20251001T113000
DTSTAMP:20260419T150736
CREATED:20250603T122249Z
LAST-MODIFIED:20250603T161559Z
UID:78236-1759312800-1759318200@gtmnerr.org
SUMMARY:Unboxed: Taking Control of Your Camera
DESCRIPTION:Take your camera out of auto mode and into your creative control! This five-session course introduces you to the fundamentals of exposure and manual camera control. Through a mix of in-class demonstrations\, guided practice and take-home assignments\, you will build confidence in using ISO\, aperture and shutter speed to craft well-exposed\, artistic photographs. \nWhether you’re just starting out or looking to better understand your camera’s full capabilities\, this course lays the foundation for creating intentional\, artistic photographs. \n\nWeek 1 (Oct. 1): Getting Started & the Exposure TriangleLearn your camera’s anatomy and how ISO\, aperture and shutter speed work.\nWeek 2 (Oct. 8): Aperture & Depth of FieldExplore how aperture affects focus and storytelling. Learn to use aperture creatively for isolation or depth.\nWeek 3 (Oct. 15): Shutter Speed & MotionUnderstand how to freeze or blur motion using shutter speed. Practice techniques like action freezing and creative motion blur.\nWeek 4 (Oct. 22): ISO & Light SensitivityLearn how ISO impacts image brightness and quality. Conduct controlled experiments to see the effects in different lighting conditions.\nWeek 5 (Oct. 29): Putting It All Together + Intro to Post-ProcessingUse manual mode to make creative decisions in-camera and get introduced to post-processing tools to enhance your final images.\n\nPricing: $175 Friends Members; $225 Non-Friends \nREGISTER HERE!
URL:https://gtmnerr.org/calendar/photography-101-capturing-nature-with-purpose/
LOCATION:GTM Research Reserve\, 505 Guana River Rd.\, Ponte Vedra Beach\, FL\, 32082\, United States
CATEGORIES:Education,Environment,Estuary,Friends of the GTM Reserve,GTM Research Reserve,Photography
ATTACH;FMTTYPE=image/png:https://gtmnerr.org/wp-content/uploads/2025/06/Photography-Course-Fall-2025-CA-2.png
END:VEVENT
BEGIN:VEVENT
DTSTART;TZID=UTC:20250421T083000
DTEND;TZID=UTC:20250421T160000
DTSTAMP:20260419T150736
CREATED:20250313T203717Z
LAST-MODIFIED:20250314T133620Z
UID:77945-1745224200-1745251200@gtmnerr.org
SUMMARY:Illuminated Wild: Capturing Light\, Life and Motion   Photography Workshop
DESCRIPTION:Illuminated Wild: Capturing Light\, Life and Motion is an immersive photography workshop with renowned photographers Lisa Langell\, Dan Walters and Mason Mullally. This is a hands-on workshop exploring the artistic potential of light\, motion and storytelling in bird and nature photography. This full-day experience will teach you how to elevate your wildlife images using high-key techniques\, expert lighting control and dynamic storytelling through a photo. \nWhether you’re looking to create ethereal\, bright and airy wildlife portraits\, master exposure and backgrounds or add video to your storytelling toolkit\, this workshop will expand your creative vision and technique skills! \nThe price for the course is $150 for Friends of GTM Research Reserve and $200 for non-members. \nREGISTRATION AND INFORMATION ARE HERE.
URL:https://gtmnerr.org/calendar/photography-workshop-illuminated-wild-capturing-light-life-and-motion/
LOCATION:GTM Research Reserve\, 505 Guana River Rd.\, Ponte Vedra Beach\, FL\, 32082\, United States
CATEGORIES:Education,Environment,Friends of the GTM Reserve,GTM Research Reserve,Photography
ATTACH;FMTTYPE=image/png:https://gtmnerr.org/wp-content/uploads/2025/03/Photography-workshop-Lisa-Langell-photographer-400x400-3.png
END:VEVENT
END:VCALENDAR