BEGIN:VCALENDAR
VERSION:2.0
PRODID:-//Friends of The GTM - ECPv6.15.18//NONSGML v1.0//EN
CALSCALE:GREGORIAN
METHOD:PUBLISH
X-WR-CALNAME:Friends of The GTM
X-ORIGINAL-URL:https://gtmnerr.org
X-WR-CALDESC:Events for Friends of The GTM
REFRESH-INTERVAL;VALUE=DURATION:PT1H
X-Robots-Tag:noindex
X-PUBLISHED-TTL:PT1H
BEGIN:VTIMEZONE
TZID:UTC
BEGIN:STANDARD
TZOFFSETFROM:+0000
TZOFFSETTO:+0000
TZNAME:UTC
DTSTART:20230101T000000
END:STANDARD
END:VTIMEZONE
BEGIN:VEVENT
DTSTART;TZID=UTC:20240104T093000
DTEND;TZID=UTC:20240104T113000
DTSTAMP:20260420T220258
CREATED:20221020T082543Z
LAST-MODIFIED:20221020T082543Z
UID:12112-1704360600-1704367800@gtmnerr.org
SUMMARY:Matanzas Inlet Hike
DESCRIPTION:Join GTM Research Reserve and the National Park Service for a guided interpretive hike around the Matanzas Inlet. Explore the ever-changing shoreline\, tidal flats\, beaches\, dunes\, vegetation\, birds\, and wildlife. The event is free but online registration is required. \nCLICK HERE TO REGISTER. \nDo I need a reservation to attend the hike? \nYes\, register online by following the links provided above. \nIf I can’t make it\, how do I cancel my reservation?\nWhen you register\, you receive an email confirmation with information about canceling. \nWhat should I wear?\nAppropriate clothing for the outdoors is recommended. Dress in layers and prepare for any type of weather. Closed-toe shoes are encouraged but not required. Hats protect your skin from the sun\, along with sunscreen. Bug spray is also suggested. \nWhat should I bring? \nA reusable water bottle (that can be filled up onsite)\, insect repellent (strongly recommended)\, sunscreen\, and binoculars/cameras are suggested. \nCan I bring my dog?\nFamily pets/dogs cannot join the educational hikes\, as they may distract participants and disrupt native wildlife.
URL:https://gtmnerr.org/calendar/matanzas-inlet-hike-14/
LOCATION:Matanzas Inlet West Parking Lot\, 8655 A1A S\, St. Augustine\, FL\, 32080\, United States
CATEGORIES:Education,Environment,GTM Research Reserve,Guided Hike,Matanzas Inlet,recreation,Shoreline
ATTACH;FMTTYPE=image/jpeg:https://gtmnerr.org/wp-content/uploads/2021/11/CrowdOceanBackdrop-scaled-1.jpg
END:VEVENT
END:VCALENDAR