BEGIN:VCALENDAR
VERSION:2.0
PRODID:-//Friends of The GTM - ECPv6.15.18//NONSGML v1.0//EN
CALSCALE:GREGORIAN
METHOD:PUBLISH
X-ORIGINAL-URL:https://gtmnerr.org
X-WR-CALDESC:Events for Friends of The GTM
REFRESH-INTERVAL;VALUE=DURATION:PT1H
X-Robots-Tag:noindex
X-PUBLISHED-TTL:PT1H
BEGIN:VTIMEZONE
TZID:America/New_York
BEGIN:DAYLIGHT
TZOFFSETFROM:-0500
TZOFFSETTO:-0400
TZNAME:EDT
DTSTART:20230312T070000
END:DAYLIGHT
BEGIN:STANDARD
TZOFFSETFROM:-0400
TZOFFSETTO:-0500
TZNAME:EST
DTSTART:20231105T060000
END:STANDARD
BEGIN:DAYLIGHT
TZOFFSETFROM:-0500
TZOFFSETTO:-0400
TZNAME:EDT
DTSTART:20240310T070000
END:DAYLIGHT
BEGIN:STANDARD
TZOFFSETFROM:-0400
TZOFFSETTO:-0500
TZNAME:EST
DTSTART:20241103T060000
END:STANDARD
BEGIN:DAYLIGHT
TZOFFSETFROM:-0500
TZOFFSETTO:-0400
TZNAME:EDT
DTSTART:20250309T070000
END:DAYLIGHT
BEGIN:STANDARD
TZOFFSETFROM:-0400
TZOFFSETTO:-0500
TZNAME:EST
DTSTART:20251102T060000
END:STANDARD
END:VTIMEZONE
BEGIN:VEVENT
DTSTART;TZID=America/New_York:20240712T100000
DTEND;TZID=America/New_York:20240712T113000
DTSTAMP:20260420T144121
CREATED:20210720T143327Z
LAST-MODIFIED:20210720T143327Z
UID:13323-1720778400-1720783800@gtmnerr.org
SUMMARY:New Volunteer Orientation
DESCRIPTION:[fusion_builder_container type=”flex” hundred_percent=”no” equal_height_columns=”no” menu_anchor=”” hide_on_mobile=”small-visibility\,medium-visibility\,large-visibility” class=”” id=”” background_color=”” background_image=”” background_position=”center center” background_repeat=”no-repeat” fade=”no” background_parallax=”none” parallax_speed=”0.3″ video_mp4=”” video_webm=”” video_ogv=”” video_url=”” video_aspect_ratio=”16:9″ video_loop=”yes” video_mute=”yes” overlay_color=”” video_preview_image=”” border_color=”” border_style=”solid” padding_top=”” padding_bottom=”” padding_left=”” padding_right=””][fusion_builder_row][fusion_builder_column type=”1_1″ layout=”1_1″ background_position=”left top” background_color=”” border_color=”” border_style=”solid” border_position=”all” spacing=”yes” background_image=”” background_repeat=”no-repeat” padding_top=”” padding_right=”” padding_bottom=”” padding_left=”” margin_top=”0px” margin_bottom=”0px” class=”” id=”” animation_type=”” animation_speed=”0.3″ animation_direction=”left” hide_on_mobile=”small-visibility\,medium-visibility\,large-visibility” center_content=”no” last=”true” min_height=”” hover_type=”none” link=”” border_sizes_top=”” border_sizes_bottom=”” border_sizes_left=”” border_sizes_right=”” first=”true”][fusion_text columns=”” column_min_width=”” column_spacing=”” rule_style=”default” rule_size=”” rule_color=”” content_alignment_medium=”” content_alignment_small=”” content_alignment=”” hide_on_mobile=”small-visibility\,medium-visibility\,large-visibility” sticky_display=”normal\,sticky” class=”” id=”” margin_top=”” margin_right=”” margin_bottom=”” margin_left=”” font_size=”” fusion_font_family_text_font=”” fusion_font_variant_text_font=”” line_height=”” letter_spacing=”” text_color=”” animation_type=”” animation_direction=”left” animation_speed=”0.3″ animation_offset=””] \nA new volunteer at GTM Research Reserve? Haven’t attended a New Volunteer Orientation? Then join us for a New Volunteer Orientation! Expect to learn: \n-GTM NERR program overview\n-Volunteer Rules and Responsibilities\n-Next steps to volunteering at GTM \nPlease be sure to complete a volunteer application before attending. You can contact Volunteer Coordinator Abigail Kuhn at Abigail.Kuhn@FloridaDEP.gov to assure that your application was received. \n[/fusion_text][/fusion_builder_column][/fusion_builder_row][/fusion_builder_container]
URL:https://gtmnerr.org/calendar/new-volunteer-orientation-2024-07-12/
LOCATION:GTM Research Reserve\, 505 Guana River Rd.\, Ponte Vedra Beach\, FL\, 32082\, United States
CATEGORIES:GTM Research Reserve,Training,Volunteer
ATTACH;FMTTYPE=image/jpeg:https://gtmnerr.org/wp-content/uploads/2021/07/Joan-on-Beach.jpg
END:VEVENT
END:VCALENDAR