BEGIN:VCALENDAR
VERSION:2.0
PRODID:-//Friends of The GTM - ECPv6.15.18//NONSGML v1.0//EN
CALSCALE:GREGORIAN
METHOD:PUBLISH
X-ORIGINAL-URL:https://gtmnerr.org
X-WR-CALDESC:Events for Friends of The GTM
REFRESH-INTERVAL;VALUE=DURATION:PT1H
X-Robots-Tag:noindex
X-PUBLISHED-TTL:PT1H
BEGIN:VTIMEZONE
TZID:America/New_York
BEGIN:DAYLIGHT
TZOFFSETFROM:-0500
TZOFFSETTO:-0400
TZNAME:EDT
DTSTART:20230312T070000
END:DAYLIGHT
BEGIN:STANDARD
TZOFFSETFROM:-0400
TZOFFSETTO:-0500
TZNAME:EST
DTSTART:20231105T060000
END:STANDARD
BEGIN:DAYLIGHT
TZOFFSETFROM:-0500
TZOFFSETTO:-0400
TZNAME:EDT
DTSTART:20240310T070000
END:DAYLIGHT
BEGIN:STANDARD
TZOFFSETFROM:-0400
TZOFFSETTO:-0500
TZNAME:EST
DTSTART:20241103T060000
END:STANDARD
BEGIN:DAYLIGHT
TZOFFSETFROM:-0500
TZOFFSETTO:-0400
TZNAME:EDT
DTSTART:20250309T070000
END:DAYLIGHT
BEGIN:STANDARD
TZOFFSETFROM:-0400
TZOFFSETTO:-0500
TZNAME:EST
DTSTART:20251102T060000
END:STANDARD
END:VTIMEZONE
BEGIN:VTIMEZONE
TZID:UTC
BEGIN:STANDARD
TZOFFSETFROM:+0000
TZOFFSETTO:+0000
TZNAME:UTC
DTSTART:20240101T000000
END:STANDARD
END:VTIMEZONE
BEGIN:VEVENT
DTSTART;TZID=America/New_York:20241004T100000
DTEND;TZID=America/New_York:20241004T113000
DTSTAMP:20260421T031255
CREATED:20210720T143327Z
LAST-MODIFIED:20210720T143327Z
UID:12854-1728036000-1728041400@gtmnerr.org
SUMMARY:New Volunteer Orientation
DESCRIPTION:A new volunteer at GTM Research Reserve? Haven’t attended a New Volunteer Orientation? Then join us for a New Volunteer Orientation! Expect to learn: \n-GTM NERR program overview\n-Volunteer Rules and Responsibilities\n-Next steps to volunteering at GTM \nPlease be sure to complete a volunteer application before attending. You can contact Volunteer Coordinator Abigail Kuhn at Abigail.Kuhn@FloridaDEP.gov to assure that your application was received.
URL:https://gtmnerr.org/calendar/new-volunteer-orientation-2024-10-04/
LOCATION:GTM Research Reserve\, 505 Guana River Rd.\, Ponte Vedra Beach\, FL\, 32082\, United States
CATEGORIES:GTM Research Reserve,Training,Volunteer
ATTACH;FMTTYPE=image/jpeg:https://gtmnerr.org/wp-content/uploads/2021/07/Joan-on-Beach.jpg
END:VEVENT
BEGIN:VEVENT
DTSTART;TZID=America/New_York:20241101T100000
DTEND;TZID=America/New_York:20241101T113000
DTSTAMP:20260421T031255
CREATED:20210720T143327Z
LAST-MODIFIED:20210720T143327Z
UID:12855-1730455200-1730460600@gtmnerr.org
SUMMARY:New Volunteer Orientation
DESCRIPTION:A new volunteer at GTM Research Reserve? Haven’t attended a New Volunteer Orientation? Then join us for a New Volunteer Orientation! Expect to learn: \n-GTM NERR program overview\n-Volunteer Rules and Responsibilities\n-Next steps to volunteering at GTM \nPlease be sure to complete a volunteer application before attending. You can contact Volunteer Coordinator Abigail Kuhn at Abigail.Kuhn@FloridaDEP.gov to assure that your application was received.
URL:https://gtmnerr.org/calendar/new-volunteer-orientation-2024-11-01/
LOCATION:GTM Research Reserve\, 505 Guana River Rd.\, Ponte Vedra Beach\, FL\, 32082\, United States
CATEGORIES:GTM Research Reserve,Training,Volunteer
ATTACH;FMTTYPE=image/jpeg:https://gtmnerr.org/wp-content/uploads/2021/07/Joan-on-Beach.jpg
END:VEVENT
BEGIN:VEVENT
DTSTART;TZID=America/New_York:20241206T100000
DTEND;TZID=America/New_York:20241206T113000
DTSTAMP:20260421T031255
CREATED:20210720T143327Z
LAST-MODIFIED:20210720T143327Z
UID:12856-1733479200-1733484600@gtmnerr.org
SUMMARY:New Volunteer Orientation
DESCRIPTION:A new volunteer at GTM Research Reserve? Haven’t attended a New Volunteer Orientation? Then join us for a New Volunteer Orientation! Expect to learn: \n-GTM NERR program overview\n-Volunteer Rules and Responsibilities\n-Next steps to volunteering at GTM \nPlease be sure to complete a volunteer application before attending. You can contact Volunteer Coordinator Abigail Kuhn at Abigail.Kuhn@FloridaDEP.gov to assure that your application was received.
URL:https://gtmnerr.org/calendar/new-volunteer-orientation-2024-12-06/
LOCATION:GTM Research Reserve\, 505 Guana River Rd.\, Ponte Vedra Beach\, FL\, 32082\, United States
CATEGORIES:GTM Research Reserve,Training,Volunteer
ATTACH;FMTTYPE=image/jpeg:https://gtmnerr.org/wp-content/uploads/2021/07/Joan-on-Beach.jpg
END:VEVENT
BEGIN:VEVENT
DTSTART;TZID=UTC:20250502T100000
DTEND;TZID=UTC:20250502T113000
DTSTAMP:20260421T031255
CREATED:20250203T185144Z
LAST-MODIFIED:20250203T185144Z
UID:77569-1746180000-1746185400@gtmnerr.org
SUMMARY:New Volunteer Orientation
DESCRIPTION:Interested volunteers will learn about the background and history of the reserve\, volunteer opportunities\, and the benefits of volunteering at GTM Research Reserve. \nPlease complete a volunteer application before attending. You can contact Volunteer Coordinator Abigail Kuhn at Abigail.Kuhn@FloridaDEP.gov to assure that your application was received.
URL:https://gtmnerr.org/calendar/new-volunteer-orientation-4/
LOCATION:GTM Research Reserve\, 505 Guana River Rd.\, Ponte Vedra Beach\, FL\, 32082\, United States
CATEGORIES:Training,Volunteer
ATTACH;FMTTYPE=image/png:https://gtmnerr.org/wp-content/uploads/2021/07/New-Volunteer-Orientation-CA.png
END:VEVENT
BEGIN:VEVENT
DTSTART;TZID=UTC:20250606T100000
DTEND;TZID=UTC:20250606T113000
DTSTAMP:20260421T031255
CREATED:20250204T174558Z
LAST-MODIFIED:20250204T174558Z
UID:77595-1749204000-1749209400@gtmnerr.org
SUMMARY:New Volunteer Orientation
DESCRIPTION:Interested volunteers will learn about the background and history of the reserve\, volunteer opportunities\, and the benefits of volunteering at GTM Research Reserve. \nPlease complete a volunteer application before attending. You can contact Volunteer Coordinator Abigail Kuhn at Abigail.Kuhn@FloridaDEP.gov to assure that your application was received.
URL:https://gtmnerr.org/calendar/new-volunteer-orientation-5/
LOCATION:GTM Research Reserve\, 505 Guana River Rd.\, Ponte Vedra Beach\, FL\, 32082\, United States
CATEGORIES:GTM Research Reserve,Training,Volunteer
ATTACH;FMTTYPE=image/png:https://gtmnerr.org/wp-content/uploads/2021/07/New-Volunteer-Orientation-CA.png
END:VEVENT
END:VCALENDAR