BEGIN:VCALENDAR
VERSION:2.0
PRODID:-//Friends of The GTM - ECPv6.15.18//NONSGML v1.0//EN
CALSCALE:GREGORIAN
METHOD:PUBLISH
X-WR-CALNAME:Friends of The GTM
X-ORIGINAL-URL:https://gtmnerr.org
X-WR-CALDESC:Events for Friends of The GTM
REFRESH-INTERVAL;VALUE=DURATION:PT1H
X-Robots-Tag:noindex
X-PUBLISHED-TTL:PT1H
BEGIN:VTIMEZONE
TZID:UTC
BEGIN:STANDARD
TZOFFSETFROM:+0000
TZOFFSETTO:+0000
TZNAME:UTC
DTSTART:20240101T000000
END:STANDARD
END:VTIMEZONE
BEGIN:VEVENT
DTSTART;TZID=UTC:20250220T090000
DTEND;TZID=UTC:20250220T110000
DTSTAMP:20260424T094536
CREATED:20250131T163333Z
LAST-MODIFIED:20250228T191756Z
UID:77508-1740042000-1740049200@gtmnerr.org
SUMMARY:Fishing 101 Clinic
DESCRIPTION:Join instructor Donna Frantz for this six-week Fishing 101 Clinic starting Thursday\, Feb. 20\, 2025\, at GTM Research Reserve. Have fun learning the basics of fishing. Attend all six weeks for a chance to win a Rod and Reel! Raffle prizes and goodies will be given away each week. \nIn this six-week clinic (Feb. 20\, March 1\, 6\, 13\,  20\, 27)\, you will learn: \n\nFish identification\nFishing rules and regulations\nKnot tying\nRig making\nSaltwater and freshwater baits\nNets and traps\nCasting\n\nYou will also get the opportunity for open fishing at the Guana Dam! \nThe price for the clinic is $175 for members of Friends of GTM Research Reserve and $225 for non-members. \nREGISTER HERE.
URL:https://gtmnerr.org/calendar/fishing-101-clinic/
LOCATION:GTM Research Reserve\, 505 Guana River Rd.\, Ponte Vedra Beach\, FL\, 32082\, United States
CATEGORIES:Community Engagement,Education,Environment,Estuary,GTM Research Reserve,Public Outreach,recreation
ATTACH;FMTTYPE=image/png:https://gtmnerr.org/wp-content/uploads/2025/01/Fishing101-website-calendar-2.png
END:VEVENT
END:VCALENDAR