BEGIN:VCALENDAR
VERSION:2.0
PRODID:-//Friends of The GTM - ECPv6.15.18//NONSGML v1.0//EN
CALSCALE:GREGORIAN
METHOD:PUBLISH
X-ORIGINAL-URL:https://gtmnerr.org
X-WR-CALDESC:Events for Friends of The GTM
REFRESH-INTERVAL;VALUE=DURATION:PT1H
X-Robots-Tag:noindex
X-PUBLISHED-TTL:PT1H
BEGIN:VTIMEZONE
TZID:UTC
BEGIN:STANDARD
TZOFFSETFROM:+0000
TZOFFSETTO:+0000
TZNAME:UTC
DTSTART:20240101T000000
END:STANDARD
END:VTIMEZONE
BEGIN:VEVENT
DTSTART;TZID=UTC:20251004T200000
DTEND;TZID=UTC:20251004T220000
DTSTAMP:20260420T100824
CREATED:20250606T162751Z
LAST-MODIFIED:20250606T162751Z
UID:78273-1759608000-1759615200@gtmnerr.org
SUMMARY:Moonlight Hike
DESCRIPTION:Experience the GTM Trails after dark! Enjoy exclusive after-hours access for a peaceful\, self-guided Moonlight Hike from 8-10 p.m. Normally closed by sunset\, the trails will be open for a self-paced moonlight hike\, providing a peaceful chance to explore nature after dark under the full moon. \n\n$10 – Pre-registration (credit card online).\n$20 – Day-of (cash only at the trailhead).\n\nPre-registration is strongly encouraged to guarantee you a spot. Flashlights or headlamps recommended. Take in GTM Research Reserve in a whole new light! \nREGISTER HERE!
URL:https://gtmnerr.org/calendar/moonlight-hike-2/
LOCATION:GTM Research Reserve\, 505 Guana River Rd.\, Ponte Vedra Beach\, FL\, 32082\, United States
CATEGORIES:Community Engagement,Environment,Estuary,Friends of the GTM Reserve,GTM Research Reserve
ATTACH;FMTTYPE=image/png:https://gtmnerr.org/wp-content/uploads/2025/06/Moonlight-Hike-CA.png
END:VEVENT
BEGIN:VEVENT
DTSTART;TZID=UTC:20251026T130000
DTEND;TZID=UTC:20251026T150000
DTSTAMP:20260420T100824
CREATED:20250911T175054Z
LAST-MODIFIED:20250917T175533Z
UID:78715-1761483600-1761490800@gtmnerr.org
SUMMARY:ESTUSCARY: Trunk or Treat (for smaller children)
DESCRIPTION:Now it’s time for the little ones to have their turn with ESTUSCARY Truck or Treat! This afternoon event is designed especially for 8-year-olds and under (or anyone who prefers a not-so-scary Halloween!) at Guana Tolomato Matanzas National Estuarine Research Reserve (GTM Research Reserve). Dress in your favorite Halloween costume —scary\, silly or sweet! Walk through the Haunted Trail in daylight (no scary actors\, just fun for the little ones). Take a stroll through decorated trunks and collect plenty of candy! Take a hayride and enjoy the scenery! This event is a safe\, family-friendly way to celebrate Halloween with the GTM community. \nClosed-toe shoes recommended. The event will take place at the South Beach Access Parking Lot\, 2200 S. Ponte Vedra Blvd. (A1A) in Ponte Vedra Beach. Parking is available at the lot. \nOnline registration is $10 and $20 cash at the entrance.  \nREGISTRATION FOR ESTUSCARY TRUNK OR TREAT!
URL:https://gtmnerr.org/calendar/estuscary-trunk-or-treat-for-smaller-children/
LOCATION:Guana South Beach Access Parking Lot\, 1798 Ponte Vedra Blvd\, Ponte Vedra Beach\, FL\, 32082\, United States
CATEGORIES:Estuary,Friend's Event,GTM Research Reserve
ATTACH;FMTTYPE=image/png:https://gtmnerr.org/wp-content/uploads/2025/09/DEP-CA-.png
END:VEVENT
END:VCALENDAR