BEGIN:VCALENDAR
VERSION:2.0
PRODID:-//Friends of The GTM - ECPv6.15.18//NONSGML v1.0//EN
CALSCALE:GREGORIAN
METHOD:PUBLISH
X-WR-CALNAME:Friends of The GTM
X-ORIGINAL-URL:https://gtmnerr.org
X-WR-CALDESC:Events for Friends of The GTM
REFRESH-INTERVAL;VALUE=DURATION:PT1H
X-Robots-Tag:noindex
X-PUBLISHED-TTL:PT1H
BEGIN:VTIMEZONE
TZID:America/New_York
BEGIN:DAYLIGHT
TZOFFSETFROM:-0500
TZOFFSETTO:-0400
TZNAME:EDT
DTSTART:20240310T070000
END:DAYLIGHT
BEGIN:STANDARD
TZOFFSETFROM:-0400
TZOFFSETTO:-0500
TZNAME:EST
DTSTART:20241103T060000
END:STANDARD
BEGIN:DAYLIGHT
TZOFFSETFROM:-0500
TZOFFSETTO:-0400
TZNAME:EDT
DTSTART:20250309T070000
END:DAYLIGHT
BEGIN:STANDARD
TZOFFSETFROM:-0400
TZOFFSETTO:-0500
TZNAME:EST
DTSTART:20251102T060000
END:STANDARD
BEGIN:DAYLIGHT
TZOFFSETFROM:-0500
TZOFFSETTO:-0400
TZNAME:EDT
DTSTART:20260308T070000
END:DAYLIGHT
BEGIN:STANDARD
TZOFFSETFROM:-0400
TZOFFSETTO:-0500
TZNAME:EST
DTSTART:20261101T060000
END:STANDARD
END:VTIMEZONE
BEGIN:VEVENT
DTSTART;TZID=America/New_York:20250602T080000
DTEND;TZID=America/New_York:20250606T160000
DTSTAMP:20260423T073702
CREATED:20240502T101817Z
LAST-MODIFIED:20250306T192140Z
UID:13219-1748851200-1749225600@gtmnerr.org
SUMMARY:Adventures in the Estuary Summer Camp
DESCRIPTION:Camp Dates: \n\nSession 1: June 2-6 (Ages 6-8 & 9-12)\nSession 2: June 9-13 (Ages 6-8 & 9-12)\nSession 3: June 16-20 (Ages 6-8 & 9-12)\nSession 4: June 23-27 (Ages 6-8 & 9-12)\nSession 5 (STEAM Camp): July 21-25 (Ages 12-15)\n\nDiscover the wonders of the natural world at Adventures in the Estuary\, an exciting and educational summer camp at Guana Tolomato Matanzas National Estuarine Research Reserve (GTM Research Reserve). Designed for young explorers\, this immersive camp offers a unique opportunity to delve into the diverse ecosystems of our coastal reserve. Through engaging activities\, hands-on experiences and expert-led adventures\, campers will forge a deeper connection with the estuarine environment. \nCampers should arrive between 8 and 9 a.m. and be picked up between 3 and 4 p.m.\, Monday through Thursday. Camp will end early on Fridays; campers can be picked up between 1 and 2 p.m. There will be a $50 late fee for any camper picked up late. No exceptions. \nREGISTER HERE. \nFrequently asked questions: \nHow do I register my child for camp? \nClick on the link above which will provide the sessions\, dates and age groups for each session. \nWhat is your refund policy? \nNo refunds will be issued for cancellations. If you need to cancel registration\, please reach out to us about credit for a future summer camp session. \nWhat should my child bring to camp? \n\nLunches – parents/guardians must provide a lunch for their children. We try to encourage campers to bring a litter-less\, eco-friendly lunch (reusable items).\nCampers must also bring: A water bottle\, insect repellent\, sunscreen\, a change of clothes and shoes\, closed-toe shoes\, sunglasses\, a towel and a hat.\n\nPlease be sure to label your child’s supplies since we cannot allow campers to share certain items without parent/guardian permission (e.g. sunscreen and insect repellent). Items such as sunscreen\, bug spray\, water bottles and hats can be stored at camp for the week.\n\n\nWe will provide water and snacks. We strive to provide healthy snacks\, however\, if your child has dietary restrictions we recommend packing a snack from home.\n\nWhat if my child carpools or the pick-up adult changes? \nYour child(ren) will only be allowed to go home with people you have indicated on the permission list (provided at the beginning of camp). \nMy children are siblings\, friends\, etc.\, and want to be together\, but are now in different age groups. Can they be together? \nThe 6-8-year-old and the 9-12-year-old campers will be in separate classrooms with different age-appropriate activities. Please contact us with questions. \n*Please note there are three age groups: 6-8-year-old\, 9-12-year-old\, and 12-15-year-old.
URL:https://gtmnerr.org/calendar/adventures-in-the-estuary-summer-camp-session-i-9-12-year-old/
LOCATION:GTM Research Reserve\, 505 Guana River Rd.\, Ponte Vedra Beach\, FL\, 32082\, United States
CATEGORIES:Education,Environment,Estuary,GTM Research Reserve,recreation,Summer Camp
ATTACH;FMTTYPE=image/png:https://gtmnerr.org/wp-content/uploads/2024/05/Adventures-in-the-Estuary_2025-CA-400-1.png
END:VEVENT
END:VCALENDAR